BEGIN:VCALENDAR
VERSION:2.0
PRODID:-//Lions Club of Pokhara Annapurna - ECPv6.14.2//NONSGML v1.0//EN
CALSCALE:GREGORIAN
METHOD:PUBLISH
X-ORIGINAL-URL:https://lionsannapurna.org.np
X-WR-CALDESC:Events for Lions Club of Pokhara Annapurna
REFRESH-INTERVAL;VALUE=DURATION:PT1H
X-Robots-Tag:noindex
X-PUBLISHED-TTL:PT1H
BEGIN:VTIMEZONE
TZID:UTC
BEGIN:STANDARD
TZOFFSETFROM:+0000
TZOFFSETTO:+0000
TZNAME:UTC
DTSTART:20190101T000000
END:STANDARD
END:VTIMEZONE
BEGIN:VEVENT
DTSTART;VALUE=DATE:20190505
DTEND;VALUE=DATE:20190506
DTSTAMP:20260425T155705
CREATED:20181124T045551Z
LAST-MODIFIED:20181124T045551Z
UID:742-1557014400-1557100799@lionsannapurna.org.np
SUMMARY:Deadline for filling officers' reporting form (PU 101)
DESCRIPTION:Details to be confirmed.
URL:https://lionsannapurna.org.np/event/deadline-for-filling-officers-reporting-form-pu-101/
END:VEVENT
END:VCALENDAR