BEGIN:VCALENDAR
VERSION:2.0
PRODID:-//Lions Club of Pokhara Annapurna - ECPv6.14.2//NONSGML v1.0//EN
CALSCALE:GREGORIAN
METHOD:PUBLISH
X-WR-CALNAME:Lions Club of Pokhara Annapurna
X-ORIGINAL-URL:https://lionsannapurna.org.np
X-WR-CALDESC:Events for Lions Club of Pokhara Annapurna
REFRESH-INTERVAL;VALUE=DURATION:PT1H
X-Robots-Tag:noindex
X-PUBLISHED-TTL:PT1H
BEGIN:VTIMEZONE
TZID:UTC
BEGIN:STANDARD
TZOFFSETFROM:+0000
TZOFFSETTO:+0000
TZNAME:UTC
DTSTART:20170101T000000
END:STANDARD
END:VTIMEZONE
BEGIN:VEVENT
DTSTART;TZID=UTC:20170503T080000
DTEND;TZID=UTC:20170511T170000
DTSTAMP:20260425T114147
CREATED:20170501T052552Z
LAST-MODIFIED:20170501T052757Z
UID:303-1493798400-1494522000@lionsannapurna.org.np
SUMMARY:test
DESCRIPTION:test
URL:https://lionsannapurna.org.np/event/test/
LOCATION:ABC\, Newroad Pokhara\, Pokhara\, Nepal
CATEGORIES:Upcoming events
ATTACH;FMTTYPE=image/png:https://lionsannapurna.org.np/wp-content/uploads/2017/03/feb.png
END:VEVENT
BEGIN:VEVENT
DTSTART;VALUE=DATE:20170407
DTEND;VALUE=DATE:20170408
DTSTAMP:20260425T114147
CREATED:20170403T072351Z
LAST-MODIFIED:20170403T072351Z
UID:263-1491523200-1491609599@lionsannapurna.org.np
SUMMARY:blood donation
DESCRIPTION:
URL:https://lionsannapurna.org.np/event/blood-donation/
LOCATION:ABC\, Newroad Pokhara\, Pokhara\, Nepal
END:VEVENT
END:VCALENDAR