BEGIN:VCALENDAR
VERSION:2.0
PRODID:-//Lions Club of Pokhara Annapurna - ECPv6.14.2//NONSGML v1.0//EN
CALSCALE:GREGORIAN
METHOD:PUBLISH
X-WR-CALNAME:Lions Club of Pokhara Annapurna
X-ORIGINAL-URL:https://lionsannapurna.org.np
X-WR-CALDESC:Events for Lions Club of Pokhara Annapurna
REFRESH-INTERVAL;VALUE=DURATION:PT1H
X-Robots-Tag:noindex
X-PUBLISHED-TTL:PT1H
BEGIN:VTIMEZONE
TZID:UTC
BEGIN:STANDARD
TZOFFSETFROM:+0000
TZOFFSETTO:+0000
TZNAME:UTC
DTSTART:20190101T000000
END:STANDARD
END:VTIMEZONE
BEGIN:VEVENT
DTSTART;VALUE=DATE:20190401
DTEND;VALUE=DATE:20190402
DTSTAMP:20260425T142814
CREATED:20181124T044829Z
LAST-MODIFIED:20181124T044829Z
UID:724-1554076800-1554163199@lionsannapurna.org.np
SUMMARY:Leo of the Year Application (Leo - LOY DUE)
DESCRIPTION:Details to be confirmed.
URL:https://lionsannapurna.org.np/event/leo-of-the-year-application-leo-loy-due/
END:VEVENT
BEGIN:VEVENT
DTSTART;VALUE=DATE:20190417
DTEND;VALUE=DATE:20190418
DTSTAMP:20260425T142814
CREATED:20181124T044902Z
LAST-MODIFIED:20181124T044902Z
UID:726-1555459200-1555545599@lionsannapurna.org.np
SUMMARY:30 Worldwide Week of Service to Protect Our Planet
DESCRIPTION:Details to be confirmed.
URL:https://lionsannapurna.org.np/event/30-worldwide-week-of-service-to-protect-our-planet/
END:VEVENT
BEGIN:VEVENT
DTSTART;VALUE=DATE:20190420
DTEND;VALUE=DATE:20190421
DTSTAMP:20260425T142814
CREATED:20181124T045104Z
LAST-MODIFIED:20181124T045104Z
UID:730-1555718400-1555804799@lionsannapurna.org.np
SUMMARY:Election and Celebration
DESCRIPTION:Details to be confirmed.
URL:https://lionsannapurna.org.np/event/election-and-celebration/
END:VEVENT
BEGIN:VEVENT
DTSTART;VALUE=DATE:20190420
DTEND;VALUE=DATE:20190501
DTSTAMP:20260425T142814
CREATED:20181124T045142Z
LAST-MODIFIED:20181124T045142Z
UID:732-1555718400-1556668799@lionsannapurna.org.np
SUMMARY:Worldwide Immunization Week
DESCRIPTION:Details to be confirmed.
URL:https://lionsannapurna.org.np/event/worldwide-immunization-week/
END:VEVENT
BEGIN:VEVENT
DTSTART;VALUE=DATE:20190422
DTEND;VALUE=DATE:20190423
DTSTAMP:20260425T142814
CREATED:20181124T045210Z
LAST-MODIFIED:20181124T045210Z
UID:734-1555891200-1555977599@lionsannapurna.org.np
SUMMARY:Earth Day
DESCRIPTION:Details to be confirmed.
URL:https://lionsannapurna.org.np/event/earth-day/
END:VEVENT
BEGIN:VEVENT
DTSTART;VALUE=DATE:20190427
DTEND;VALUE=DATE:20190428
DTSTAMP:20260425T142814
CREATED:20181124T045011Z
LAST-MODIFIED:20181124T045011Z
UID:728-1556323200-1556409599@lionsannapurna.org.np
SUMMARY:7th Annual District Convention at Pokhara
DESCRIPTION:Details to be confirmed.
URL:https://lionsannapurna.org.np/event/7th-annual-district-convention-at-pokhara/
END:VEVENT
END:VCALENDAR